BEGIN:VCALENDAR
VERSION:2.0
PRODID: -//CMS 5.0 //NONSGML //DE
BEGIN:VEVENT
SUMMARY:Jugendgottesdienst in Esens
DESCRIPTION:Jugendgottesdienst in der Gemeinde Esens\n\n\n\nhttps://bezi
 rk-emden.nak-nordost.de/db/302536
UID:302536@bezirk-emden.nak-nordost.de
LOCATION:Thomas  Jähnel
CATEGORIES:Sonstige Termine,Gottesdienst,Kirchenbezirk Emden (Alle Gemeinden),Bezirks-Gottesdienste,Jugend,Kirchenbezirk Emden,Jugendgottesdienst
X-ORGANIZER:
STATUS:CONFIRMED
CLASS:PUBLIC
DTSTART:20241117T090000Z
DTEND:20241117T100000Z
DTSTAMP:20260420T135829Z
CREATED:20240107T215337Z
LAST-MODIFIED:20240107T215437Z
BEGIN:VALARM
UID:0253F82A-3CC1-11F1-A7A1-20365429324C
TRIGGER:-PT60M
ACTION:DISPLAY
DESCRIPTION:SUMMARY:Jugendgottesdienst in Esens
END:VALARM
END:VEVENT
END:VCALENDAR
